BEGIN:VCALENDAR
VERSION:2.0
PRODID:-//Crachia Hausham - ECPv6.15.20//NONSGML v1.0//EN
CALSCALE:GREGORIAN
METHOD:PUBLISH
X-ORIGINAL-URL:https://crachia.azurewebsites.net
X-WR-CALDESC:Veranstaltungen für Crachia Hausham
REFRESH-INTERVAL;VALUE=DURATION:PT1H
X-Robots-Tag:noindex
X-PUBLISHED-TTL:PT1H
BEGIN:VTIMEZONE
TZID:Europe/Berlin
BEGIN:DAYLIGHT
TZOFFSETFROM:+0100
TZOFFSETTO:+0200
TZNAME:CEST
DTSTART:20230326T010000
END:DAYLIGHT
BEGIN:STANDARD
TZOFFSETFROM:+0200
TZOFFSETTO:+0100
TZNAME:CET
DTSTART:20231029T010000
END:STANDARD
BEGIN:DAYLIGHT
TZOFFSETFROM:+0100
TZOFFSETTO:+0200
TZNAME:CEST
DTSTART:20240331T010000
END:DAYLIGHT
BEGIN:STANDARD
TZOFFSETFROM:+0200
TZOFFSETTO:+0100
TZNAME:CET
DTSTART:20241027T010000
END:STANDARD
BEGIN:DAYLIGHT
TZOFFSETFROM:+0100
TZOFFSETTO:+0200
TZNAME:CEST
DTSTART:20250330T010000
END:DAYLIGHT
BEGIN:STANDARD
TZOFFSETFROM:+0200
TZOFFSETTO:+0100
TZNAME:CET
DTSTART:20251026T010000
END:STANDARD
END:VTIMEZONE
BEGIN:VEVENT
DTSTART;TZID=Europe/Berlin:20240407T080000
DTEND;TZID=Europe/Berlin:20240407T160000
DTSTAMP:20260425T130741
CREATED:20240324T171345Z
LAST-MODIFIED:20240324T185853Z
UID:1644-1712476800-1712505600@crachia.azurewebsites.net
SUMMARY:8. Trachtenflohmarkt
DESCRIPTION:Es ist wieder so weit! \nZum achten Mal veranstaltet unsere Tanz- und Showgarde ihren Trachtenflohmarkt im Haushamer Bürgersaal neben der Kirche. Die „Festlsaison“ steht wieder vor der Tür und vielleicht benötigt jemand von euch noch etwas schickes zum Anziehen oder ist aus seinem alten „Trachtengwand“ herausgewachsen. Ihr könnt also zwei Fliegen mit einer Klappe schlagen – verkauft eure alte Tracht und sucht euch etwas neues aus – es ist sicherlich das ein oder andere Schnäppchen dabei. Werft also mal einen Blick in eure Schränke\, Keller oder Dachböden ob ihr nicht auch gut erhaltenes „Trachtengwand“ habt\, das dort nur verstaubt\, aber eigentlich zu Geld gemacht werden könnte. \nUnd so funktionierts:– einfach unter 0155/10063752 anrufen und ihr erhaltet eine Nummer– die Nummer bitte mit dem Preis und der Größe am jedem Kleidungsstück befestigen– dann am 07.04. bei uns im Bürgersaal mit den Sachen vorbei kommen (Annahme: 08:00 Uhr bis 10:00 Uhr)– unsere Mädels nehmen die Sachen entgegen und werden dann bis 13:00 Uhr verkaufen\, verkaufen\, verkaufen\, während ihr euren Sonntag in vollen Zügen genießen könnt– von 14:00 Uhr bis 16:00 Uhr könnt ihr dann euer Geld und die nicht verkauften Sachen wieder bei uns abholen– 20% des Umsatzes kommen der Jugenarbeit der Crachia zu Gute. \nAlso stöbert nochmal alles durch und kommt natürlich vorbei um das ein oder andere Unikat abzustauben!Wir freuen uns auf euer Kommen und auf viele gut erhaltene Trachtenartikel.
URL:https://crachia.azurewebsites.net/event/8-trachtenflohmarkt/
LOCATION:Bürgersaal Hausham\, Geißstr. 1\, Hausham\, Bayern\, 83734
ATTACH;FMTTYPE=image/jpeg:/wp-content/uploads/2024/03/Trachtenflohmarkt2024.jpg
END:VEVENT
END:VCALENDAR