BEGIN:VCALENDAR
VERSION:2.0
PRODID:-//Crachia Hausham - ECPv6.15.20//NONSGML v1.0//EN
CALSCALE:GREGORIAN
METHOD:PUBLISH
X-WR-CALNAME:Crachia Hausham
X-ORIGINAL-URL:https://crachia.azurewebsites.net
X-WR-CALDESC:Veranstaltungen für Crachia Hausham
REFRESH-INTERVAL;VALUE=DURATION:PT1H
X-Robots-Tag:noindex
X-PUBLISHED-TTL:PT1H
BEGIN:VTIMEZONE
TZID:Europe/Berlin
BEGIN:DAYLIGHT
TZOFFSETFROM:+0100
TZOFFSETTO:+0200
TZNAME:CEST
DTSTART:20240331T010000
END:DAYLIGHT
BEGIN:STANDARD
TZOFFSETFROM:+0200
TZOFFSETTO:+0100
TZNAME:CET
DTSTART:20241027T010000
END:STANDARD
BEGIN:DAYLIGHT
TZOFFSETFROM:+0100
TZOFFSETTO:+0200
TZNAME:CEST
DTSTART:20250330T010000
END:DAYLIGHT
BEGIN:STANDARD
TZOFFSETFROM:+0200
TZOFFSETTO:+0100
TZNAME:CET
DTSTART:20251026T010000
END:STANDARD
BEGIN:DAYLIGHT
TZOFFSETFROM:+0100
TZOFFSETTO:+0200
TZNAME:CEST
DTSTART:20260329T010000
END:DAYLIGHT
BEGIN:STANDARD
TZOFFSETFROM:+0200
TZOFFSETTO:+0100
TZNAME:CET
DTSTART:20261025T010000
END:STANDARD
END:VTIMEZONE
BEGIN:VEVENT
DTSTART;TZID=Europe/Berlin:20250921T200000
DTEND;TZID=Europe/Berlin:20250921T230000
DTSTAMP:20260424T133704
CREATED:20250821T053934Z
LAST-MODIFIED:20250821T060850Z
UID:6318-1758484800-1758495600@crachia.azurewebsites.net
SUMMARY:Mitwirkendenversammlung 64. Elferratssitzung
DESCRIPTION:Liebe Crachianer und Mitwirkende der Elferratssitzung\, \n\n\n\nwir laden euch auch in diesem Jahr wieder herzlich zur Mitwirkendenversammlung für die 64. Elferratssitzung im kleinen Saal des Alpengasthof Glück Auf ein.Wir freuen uns auf euer Kommen\,Eure Elferratssitzungsteam
URL:https://crachia.azurewebsites.net/event/mitwirkendenversammlung-64-elferratssitzung/
LOCATION:Gewerkschaftshaus Hausham\, Sportplatz 1\, Hausham\, Bayern\, 83734\, Deutschland
END:VEVENT
END:VCALENDAR