BEGIN:VCALENDAR
VERSION:2.0
PRODID:-//Crachia Hausham - ECPv6.15.20//NONSGML v1.0//EN
CALSCALE:GREGORIAN
METHOD:PUBLISH
X-WR-CALNAME:Crachia Hausham
X-ORIGINAL-URL:https://crachia.azurewebsites.net
X-WR-CALDESC:Veranstaltungen für Crachia Hausham
REFRESH-INTERVAL;VALUE=DURATION:PT1H
X-Robots-Tag:noindex
X-PUBLISHED-TTL:PT1H
BEGIN:VTIMEZONE
TZID:Europe/Berlin
BEGIN:DAYLIGHT
TZOFFSETFROM:+0100
TZOFFSETTO:+0200
TZNAME:CEST
DTSTART:20250330T010000
END:DAYLIGHT
BEGIN:STANDARD
TZOFFSETFROM:+0200
TZOFFSETTO:+0100
TZNAME:CET
DTSTART:20251026T010000
END:STANDARD
BEGIN:DAYLIGHT
TZOFFSETFROM:+0100
TZOFFSETTO:+0200
TZNAME:CEST
DTSTART:20260329T010000
END:DAYLIGHT
BEGIN:STANDARD
TZOFFSETFROM:+0200
TZOFFSETTO:+0100
TZNAME:CET
DTSTART:20261025T010000
END:STANDARD
BEGIN:DAYLIGHT
TZOFFSETFROM:+0100
TZOFFSETTO:+0200
TZNAME:CEST
DTSTART:20270328T010000
END:DAYLIGHT
BEGIN:STANDARD
TZOFFSETFROM:+0200
TZOFFSETTO:+0100
TZNAME:CET
DTSTART:20271031T010000
END:STANDARD
END:VTIMEZONE
BEGIN:VEVENT
DTSTART;TZID=Europe/Berlin:20260212T100000
DTEND;TZID=Europe/Berlin:20260212T233000
DTSTAMP:20260423T151752
CREATED:20260115T111059Z
LAST-MODIFIED:20260115T111438Z
UID:7858-1770890400-1770939000@crachia.azurewebsites.net
SUMMARY:Weiberfasching in Miesbach
DESCRIPTION:Das Weißbräustüberl in Miesbach feiert den Fasching! Gemeinsam mit der Crachia Hausham wird im Hopf ordentlich in das lange Faschingswochenende gestartet. Ab 10 Uhr geht’s mit Weißwurstfrühstück los und es wird den ganzen Tag ordentlich gefeiert!
URL:https://crachia.azurewebsites.net/event/weiberfasching-in-miesbach/
LOCATION:Weißbräustüberl Miesbach\, Marienplatz 6\, Miesbach\, Bayern\, 83714\, Germany
ATTACH;FMTTYPE=image/png:https://crachia7d7c926c8b.blob.core.windows.net/blobcrachia7d7c926c8b/2026/01/hopf-fasching_fin.png
END:VEVENT
END:VCALENDAR