BEGIN:VCALENDAR
VERSION:2.0
PRODID:-//Crachia Hausham - ECPv6.15.20//NONSGML v1.0//EN
CALSCALE:GREGORIAN
METHOD:PUBLISH
X-ORIGINAL-URL:https://crachia.azurewebsites.net
X-WR-CALDESC:Veranstaltungen für Crachia Hausham
REFRESH-INTERVAL;VALUE=DURATION:PT1H
X-Robots-Tag:noindex
X-PUBLISHED-TTL:PT1H
BEGIN:VTIMEZONE
TZID:Europe/Berlin
BEGIN:DAYLIGHT
TZOFFSETFROM:+0100
TZOFFSETTO:+0200
TZNAME:CEST
DTSTART:20250330T010000
END:DAYLIGHT
BEGIN:STANDARD
TZOFFSETFROM:+0200
TZOFFSETTO:+0100
TZNAME:CET
DTSTART:20251026T010000
END:STANDARD
BEGIN:DAYLIGHT
TZOFFSETFROM:+0100
TZOFFSETTO:+0200
TZNAME:CEST
DTSTART:20260329T010000
END:DAYLIGHT
BEGIN:STANDARD
TZOFFSETFROM:+0200
TZOFFSETTO:+0100
TZNAME:CET
DTSTART:20261025T010000
END:STANDARD
BEGIN:DAYLIGHT
TZOFFSETFROM:+0100
TZOFFSETTO:+0200
TZNAME:CEST
DTSTART:20270328T010000
END:DAYLIGHT
BEGIN:STANDARD
TZOFFSETFROM:+0200
TZOFFSETTO:+0100
TZNAME:CET
DTSTART:20271031T010000
END:STANDARD
END:VTIMEZONE
BEGIN:VEVENT
DTSTART;TZID=Europe/Berlin:20260417T200000
DTEND;TZID=Europe/Berlin:20260417T230000
DTSTAMP:20260422T143937
CREATED:20260331T180000Z
LAST-MODIFIED:20260413T093206Z
UID:8071-1776456000-1776466800@crachia.azurewebsites.net
SUMMARY:Jahreshauptversammlung mit Neuwahlen
DESCRIPTION:
URL:https://crachia.azurewebsites.net/event/jahreshauptversammlung-mit-neuwahlen/
LOCATION:Alpengasthof Glückauf (kleiner Saal)\, Sportplatz 1\, Hausham\, 83734\, Germany
ATTACH;FMTTYPE=image/png:/wp-content/uploads/2024/03/logo_flagge-Kopie.png
END:VEVENT
END:VCALENDAR