BEGIN:VCALENDAR
VERSION:2.0
PRODID:-//Crachia Hausham - ECPv6.15.20//NONSGML v1.0//EN
CALSCALE:GREGORIAN
METHOD:PUBLISH
X-WR-CALNAME:Crachia Hausham
X-ORIGINAL-URL:https://crachia.azurewebsites.net
X-WR-CALDESC:Veranstaltungen für Crachia Hausham
REFRESH-INTERVAL;VALUE=DURATION:PT1H
X-Robots-Tag:noindex
X-PUBLISHED-TTL:PT1H
BEGIN:VTIMEZONE
TZID:Europe/Berlin
BEGIN:DAYLIGHT
TZOFFSETFROM:+0100
TZOFFSETTO:+0200
TZNAME:CEST
DTSTART:20250330T010000
END:DAYLIGHT
BEGIN:STANDARD
TZOFFSETFROM:+0200
TZOFFSETTO:+0100
TZNAME:CET
DTSTART:20251026T010000
END:STANDARD
BEGIN:DAYLIGHT
TZOFFSETFROM:+0100
TZOFFSETTO:+0200
TZNAME:CEST
DTSTART:20260329T010000
END:DAYLIGHT
BEGIN:STANDARD
TZOFFSETFROM:+0200
TZOFFSETTO:+0100
TZNAME:CET
DTSTART:20261025T010000
END:STANDARD
BEGIN:DAYLIGHT
TZOFFSETFROM:+0100
TZOFFSETTO:+0200
TZNAME:CEST
DTSTART:20270328T010000
END:DAYLIGHT
BEGIN:STANDARD
TZOFFSETFROM:+0200
TZOFFSETTO:+0100
TZNAME:CET
DTSTART:20271031T010000
END:STANDARD
END:VTIMEZONE
BEGIN:VEVENT
DTSTART;TZID=Europe/Berlin:20261114T200000
DTEND;TZID=Europe/Berlin:20261114T233000
DTSTAMP:20260422T185017
CREATED:20251214T145208Z
LAST-MODIFIED:20251214T145211Z
UID:7523-1794686400-1794699000@crachia.azurewebsites.net
SUMMARY:2. Elferratssitzung 2026
DESCRIPTION:
URL:https://crachia.azurewebsites.net/event/2-elferratssitzung-2026/
LOCATION:Gewerkschaftshaus Hausham\, Sportplatz 1\, Hausham\, Bayern\, 83734\, Deutschland
ATTACH;FMTTYPE=image/png:https://crachia7d7c926c8b.blob.core.windows.net/blobcrachia7d7c926c8b/2025/12/es-scaled.png
END:VEVENT
END:VCALENDAR