BEGIN:VCALENDAR
VERSION:2.0
PRODID:-//Crachia Hausham - ECPv6.15.20//NONSGML v1.0//EN
CALSCALE:GREGORIAN
METHOD:PUBLISH
X-WR-CALNAME:Crachia Hausham
X-ORIGINAL-URL:https://crachia.azurewebsites.net
X-WR-CALDESC:Veranstaltungen für Crachia Hausham
REFRESH-INTERVAL;VALUE=DURATION:PT1H
X-Robots-Tag:noindex
X-PUBLISHED-TTL:PT1H
BEGIN:VTIMEZONE
TZID:Europe/Berlin
BEGIN:DAYLIGHT
TZOFFSETFROM:+0100
TZOFFSETTO:+0200
TZNAME:CEST
DTSTART:20230326T010000
END:DAYLIGHT
BEGIN:STANDARD
TZOFFSETFROM:+0200
TZOFFSETTO:+0100
TZNAME:CET
DTSTART:20231029T010000
END:STANDARD
BEGIN:DAYLIGHT
TZOFFSETFROM:+0100
TZOFFSETTO:+0200
TZNAME:CEST
DTSTART:20240331T010000
END:DAYLIGHT
BEGIN:STANDARD
TZOFFSETFROM:+0200
TZOFFSETTO:+0100
TZNAME:CET
DTSTART:20241027T010000
END:STANDARD
BEGIN:DAYLIGHT
TZOFFSETFROM:+0100
TZOFFSETTO:+0200
TZNAME:CEST
DTSTART:20250330T010000
END:DAYLIGHT
BEGIN:STANDARD
TZOFFSETFROM:+0200
TZOFFSETTO:+0100
TZNAME:CET
DTSTART:20251026T010000
END:STANDARD
END:VTIMEZONE
BEGIN:VEVENT
DTSTART;TZID=Europe/Berlin:20241020T170000
DTEND;TZID=Europe/Berlin:20241020T183000
DTSTAMP:20260425T035524
CREATED:20240919T092412Z
LAST-MODIFIED:20240919T092412Z
UID:3699-1729443600-1729449000@crachia.azurewebsites.net
SUMMARY:Kartenvorverkauf zur 63. Elferratssitzung für Mitwirkenden und Vereinsmitglieder
DESCRIPTION:Liebe Crachianer und Mitwirkende der Elferratssitzung\,wir laden euch auch in diesem Jahr wieder herzlich zum Kartenvorverkauf für die 63. Elferratssitzung ein. Alle Infos zum Ablauf könnt ihr untenstehendem Schreiben entnehmen.Wir freuen uns auf euer Kommen\,Euer Elferratssitzungsteam \n\n\n\n\n\n\n\n\n  
URL:https://crachia.azurewebsites.net/event/kartenvorverkauf-zur-63-elferratssitzung-fuer-mitwirkenden-und-vereinsmitglieder/
ATTACH;FMTTYPE=image/webp:/wp-content/uploads/2024/03/44ED8A7F-A2F0-4CED-8B06-7C2035C40574.webp
END:VEVENT
BEGIN:VEVENT
DTSTART;TZID=Europe/Berlin:20241021T000000
DTEND;TZID=Europe/Berlin:20241021T235959
DTSTAMP:20260425T035524
CREATED:20240919T091009Z
LAST-MODIFIED:20240919T091010Z
UID:3675-1729468800-1729555199@crachia.azurewebsites.net
SUMMARY:Öffentlicher Kartenvorverkauf zur 63. Elferratssitzung
DESCRIPTION:Heute startet der Kartenvorverkauf für die 63. Elferratssitzung.Ihr könnte eure Karten direkt bei Verena Strim erwerben \n\n\n\n\nper Mail an kartenvorverkauf@crachia.de\n\n\n\nper Telefon unter 0155/10063752\n\n\n\n\nDie Elferratssitzungen finden an folgenden Terminen statt: \n\n\n\n\n15.11.24 – 1. Elferratssitzung\n\n\n\n16.11.24 – 2. Elferratssitzung\n\n\n\n22.11.24 – 3. Elferratssitzung\n\n\n\n23.11.24 – 4. Elferratssitzung\n\n\n\n\nWir freuen uns jetzt schon darauf\, euch in diesem Jahr begrüßen zu dürfen\, wenn der Vorhang für die 63. Elferratssitzung fällt und das best gehütetste Geheimnis Haushams gelüftet wird. \n\n\n\n\n  
URL:https://crachia.azurewebsites.net/event/oeffentlicher-kartenvorverkauf-zur-63-elferratssitzung/
ATTACH;FMTTYPE=image/webp:/wp-content/uploads/2024/03/44ED8A7F-A2F0-4CED-8B06-7C2035C40574.webp
END:VEVENT
END:VCALENDAR