BEGIN:VCALENDAR
VERSION:2.0
PRODID:-//Crachia Hausham - ECPv6.15.20//NONSGML v1.0//EN
CALSCALE:GREGORIAN
METHOD:PUBLISH
X-ORIGINAL-URL:https://crachia.azurewebsites.net
X-WR-CALDESC:Veranstaltungen für Crachia Hausham
REFRESH-INTERVAL;VALUE=DURATION:PT1H
X-Robots-Tag:noindex
X-PUBLISHED-TTL:PT1H
BEGIN:VTIMEZONE
TZID:Europe/Berlin
BEGIN:DAYLIGHT
TZOFFSETFROM:+0100
TZOFFSETTO:+0200
TZNAME:CEST
DTSTART:20240331T010000
END:DAYLIGHT
BEGIN:STANDARD
TZOFFSETFROM:+0200
TZOFFSETTO:+0100
TZNAME:CET
DTSTART:20241027T010000
END:STANDARD
BEGIN:DAYLIGHT
TZOFFSETFROM:+0100
TZOFFSETTO:+0200
TZNAME:CEST
DTSTART:20250330T010000
END:DAYLIGHT
BEGIN:STANDARD
TZOFFSETFROM:+0200
TZOFFSETTO:+0100
TZNAME:CET
DTSTART:20251026T010000
END:STANDARD
BEGIN:DAYLIGHT
TZOFFSETFROM:+0100
TZOFFSETTO:+0200
TZNAME:CEST
DTSTART:20260329T010000
END:DAYLIGHT
BEGIN:STANDARD
TZOFFSETFROM:+0200
TZOFFSETTO:+0100
TZNAME:CET
DTSTART:20261025T010000
END:STANDARD
END:VTIMEZONE
BEGIN:VEVENT
DTSTART;TZID=Europe/Berlin:20250201T130000
DTEND;TZID=Europe/Berlin:20250201T180000
DTSTAMP:20260424T220708
CREATED:20241123T161841Z
LAST-MODIFIED:20250122T105828Z
UID:4044-1738414800-1738432800@crachia.azurewebsites.net
SUMMARY:Kinderfasching - AUSVERKAUFT
DESCRIPTION:Unsere kleinen Faschingsnarren und -närrinnen haben wir im Haushamer Megafasching natürlich nicht vergessen. \n\n\n\nDer Faschingsspaß am Nachmittag für Klein und Groß mit Partymusik von DJ Blauer Häuptling\, Spielen\, tollen Gewinnen und jeder Menge Spaß und guter Laune.  \n\n\n\nBeginn: 13:00 Uhr im großen Saal des Alpengasthof Glück auf in Hausham \n\n\n\nZu sehen gibt es Auftritte aller unserer Garden und Prinzenpaare. \n\n\n\nMaskierung ist natürlich ausdrücklich erwünscht.
URL:https://crachia.azurewebsites.net/event/kinderfasching/
LOCATION:Gewerkschaftshaus Hausham\, Sportplatz 1\, Hausham\, Bayern\, 83734\, Deutschland
ATTACH;FMTTYPE=image/jpeg:/wp-content/uploads/2024/11/IMG-20241210-WA0004.jpg
END:VEVENT
BEGIN:VEVENT
DTSTART;TZID=Europe/Berlin:20250208T200000
DTEND;TZID=Europe/Berlin:20250208T200000
DTSTAMP:20260424T220708
CREATED:20241124T210253Z
LAST-MODIFIED:20250225T104335Z
UID:4061-1739044800-1739044800@crachia.azurewebsites.net
SUMMARY:Vegas Ball
DESCRIPTION:Alle Fotos zum unserem Vegas Ball findet ihr hier \n\n\n\nWELCOME TO FABULOUS VEGAS BALL HAUSHAMDas neue Highlight im Haushamer Mega-Fasching. Der Vegas Ball löst unseren Back in Time ab und wir garantieren Spaß\, Spannung und starke Beats von DJ Fandic. Lasst euch diesen Faschingsball auf keinen Fall entgehen. \n\n\n\nKartenvorverkauf ab 11.01.2025 direkt Online über unseren Crachia Ticketshop oder bei folgenden Vorverkaufsstellen: \n\n\n\n\nAutohaus Weinmann KG\, Miesbacher Str. 24\, 83734 HaushamÖffnungszeiten: Montag – Donnerstag 07:30 – 12:00 Uhr und 13:00 – 18:00 Uhr Freitag 07:30 – 12:00 Uhr und 13:00 – 17:30 Uhr\n\n\n\nAgip Service Station (Tankstelle)\, Rathausstr. 1\, 83734 HaushamÖffnungszeiten: Montag – Sonntag 05:00 – 23:00 Uhr\n\n\n\nOskars EssBar & TrinkBar\, Oskar-von-Miller-Str. 12\, 83714 MiesbachÖffnungszeiten: Mittwoch – Samstag 17:30 – 23:00 Uhr / Sonntag 11:30 bis 23:00 Uhr
URL:https://crachia.azurewebsites.net/event/vegas-ball/
LOCATION:Gewerkschaftshaus Hausham\, Sportplatz 1\, Hausham\, Bayern\, 83734\, Deutschland
ATTACH;FMTTYPE=image/jpeg:/wp-content/uploads/2024/11/WhatsApp-Image-2024-12-27-at-17.53.37.jpeg
END:VEVENT
BEGIN:VEVENT
DTSTART;TZID=Europe/Berlin:20250215T200000
DTEND;TZID=Europe/Berlin:20250215T235900
DTSTAMP:20260424T220708
CREATED:20241124T210353Z
LAST-MODIFIED:20250225T104525Z
UID:4063-1739649600-1739663940@crachia.azurewebsites.net
SUMMARY:1. Gardeball
DESCRIPTION:Alle Fotos zu unserem Gardeball findet ihr hier \n\n\n\nHausham wird zur Gardehochburg mit dem Gardeball. Ganze sechs Gastgarden werden an diesem Abend ihre diesjährigen Tänze und Programme den Haushamer Faschingsnarren präsentieren. Für Stimmung und Tanz zwischen den Auftritten spielt die Huabaoim Musi auf. Das dürft ihr auf keinen Fall verpassen. \n\n\n\nAuf diese Garden könnt ihr euch freuen: \n\n\n\n\nFaschingsgilde Vagen e.V.\n\n\n\nSeegeister Gmund-Dürnbach e.V.\n\n\n\nFaschingsverein Mangfalltal e.V\n\n\n\nChiemseenixen Bernau e.V.\n\n\n\nMännerballett der Burschen Schwindkirchen\n\n\n\nFaschingsgesellschaft Gleisenia e.V.\n\n\n\n\nKartenvorverkauf ab 11.01.2025 online über unseren Ticketshop oder direkt am Veranstaltungstag an unserer Abendkasse.
URL:https://crachia.azurewebsites.net/event/gardeball/
LOCATION:Gewerkschaftshaus Hausham\, Sportplatz 1\, Hausham\, Bayern\, 83734\, Deutschland
ATTACH;FMTTYPE=image/webp:/wp-content/uploads/2025/01/gardeball-v2.webp
END:VEVENT
END:VCALENDAR