BEGIN:VCALENDAR
VERSION:2.0
PRODID:-//Crachia Hausham - ECPv6.15.20//NONSGML v1.0//EN
CALSCALE:GREGORIAN
METHOD:PUBLISH
X-ORIGINAL-URL:https://crachia.azurewebsites.net
X-WR-CALDESC:Veranstaltungen für Crachia Hausham
REFRESH-INTERVAL;VALUE=DURATION:PT1H
X-Robots-Tag:noindex
X-PUBLISHED-TTL:PT1H
BEGIN:VTIMEZONE
TZID:Europe/Berlin
BEGIN:DAYLIGHT
TZOFFSETFROM:+0100
TZOFFSETTO:+0200
TZNAME:CEST
DTSTART:20240331T010000
END:DAYLIGHT
BEGIN:STANDARD
TZOFFSETFROM:+0200
TZOFFSETTO:+0100
TZNAME:CET
DTSTART:20241027T010000
END:STANDARD
BEGIN:DAYLIGHT
TZOFFSETFROM:+0100
TZOFFSETTO:+0200
TZNAME:CEST
DTSTART:20250330T010000
END:DAYLIGHT
BEGIN:STANDARD
TZOFFSETFROM:+0200
TZOFFSETTO:+0100
TZNAME:CET
DTSTART:20251026T010000
END:STANDARD
BEGIN:DAYLIGHT
TZOFFSETFROM:+0100
TZOFFSETTO:+0200
TZNAME:CEST
DTSTART:20260329T010000
END:DAYLIGHT
BEGIN:STANDARD
TZOFFSETFROM:+0200
TZOFFSETTO:+0100
TZNAME:CET
DTSTART:20261025T010000
END:STANDARD
END:VTIMEZONE
BEGIN:VEVENT
DTSTART;TZID=Europe/Berlin:20250301T200000
DTEND;TZID=Europe/Berlin:20250301T200000
DTSTAMP:20260424T204351
CREATED:20240807T171755Z
LAST-MODIFIED:20250225T115341Z
UID:3548-1740859200-1740859200@crachia.azurewebsites.net
SUMMARY:Eye of the Tiger
DESCRIPTION:Unser legendärer Eye of the Tiger Faschingsball mit den Bandits!! Mehr muss man dazu nicht sagen…. \n\n\n\nDer Vorverkauf ist beendet!Karten gibt es nur noch an unserer Abendkasse ab 20:00 Uhr.
URL:https://crachia.azurewebsites.net/event/eye-of-the-tiger/
LOCATION:Gewerkschaftshaus Hausham\, Sportplatz 1\, Hausham\, Bayern\, 83734\, Deutschland
ATTACH;FMTTYPE=image/jpeg:/wp-content/uploads/2024/08/IMG-20241210-WA0003.jpg
END:VEVENT
BEGIN:VEVENT
DTSTART;TZID=Europe/Berlin:20250302T111100
DTEND;TZID=Europe/Berlin:20250302T220000
DTSTAMP:20260424T204351
CREATED:20241124T211338Z
LAST-MODIFIED:20250111T091428Z
UID:4065-1740913860-1740952800@crachia.azurewebsites.net
SUMMARY:Ramba Zamba
DESCRIPTION:Am Faschingssonntag taucht ganz Hausham ein in die Faschingszeit bei unserem Ramba Zamba. Unter dem Motto „draußen\, maskiert & freier Eintritt“ treffen sich die Haushamer Faschingsnarren von Klein bis Groß\, von Alt bis Jung am Bahnhofsplatz um den Haushamer Megafasching nochmal richtig zu feiern. Die Bewirtung wird durch die Haushamer Ortsvereine organisiert und natürlich sind unsere Garden und Prinzenpaare auch wieder mit dabei um euch ihr diesjähriges Programm zu präsentieren.
URL:https://crachia.azurewebsites.net/event/ramba-zamba/
LOCATION:Bahnhofsplatz Hausham\, Alte Tegernseer Str. 1\, Hausham\, 83734\, Germany
ATTACH;FMTTYPE=image/jpeg:/wp-content/uploads/2024/11/image1.jpeg
END:VEVENT
END:VCALENDAR