BEGIN:VCALENDAR
VERSION:2.0
PRODID:-//Crachia Hausham - ECPv6.15.20//NONSGML v1.0//EN
CALSCALE:GREGORIAN
METHOD:PUBLISH
X-ORIGINAL-URL:https://crachia.azurewebsites.net
X-WR-CALDESC:Veranstaltungen für Crachia Hausham
REFRESH-INTERVAL;VALUE=DURATION:PT1H
X-Robots-Tag:noindex
X-PUBLISHED-TTL:PT1H
BEGIN:VTIMEZONE
TZID:Europe/Berlin
BEGIN:DAYLIGHT
TZOFFSETFROM:+0100
TZOFFSETTO:+0200
TZNAME:CEST
DTSTART:20240331T010000
END:DAYLIGHT
BEGIN:STANDARD
TZOFFSETFROM:+0200
TZOFFSETTO:+0100
TZNAME:CET
DTSTART:20241027T010000
END:STANDARD
BEGIN:DAYLIGHT
TZOFFSETFROM:+0100
TZOFFSETTO:+0200
TZNAME:CEST
DTSTART:20250330T010000
END:DAYLIGHT
BEGIN:STANDARD
TZOFFSETFROM:+0200
TZOFFSETTO:+0100
TZNAME:CET
DTSTART:20251026T010000
END:STANDARD
BEGIN:DAYLIGHT
TZOFFSETFROM:+0100
TZOFFSETTO:+0200
TZNAME:CEST
DTSTART:20260329T010000
END:DAYLIGHT
BEGIN:STANDARD
TZOFFSETFROM:+0200
TZOFFSETTO:+0100
TZNAME:CET
DTSTART:20261025T010000
END:STANDARD
END:VTIMEZONE
BEGIN:VEVENT
DTSTART;TZID=Europe/Berlin:20250712T090000
DTEND;TZID=Europe/Berlin:20250712T233000
DTSTAMP:20260424T150307
CREATED:20250430T101659Z
LAST-MODIFIED:20250522T090932Z
UID:6124-1752310800-1752363000@crachia.azurewebsites.net
SUMMARY:Gauditurnier und Bläserfest 2025
DESCRIPTION:Alle Jahre wieder lädt unser Fanfarenzug zum ultimativen Gauditurnier ein!Meldet euch mit eurer Mannschaft an\, schaut als Fans vorbei und genießt mit uns einen sportlichen Tag mit allem was zu einem Fußballturnier dazugehört! Natürlich auch mit einer grandiosen Afterturnierparty\, unser berühmtes Bläserfest!
URL:https://crachia.azurewebsites.net/event/gauditurnier-und-blaeserfest-2025/
ATTACH;FMTTYPE=image/jpeg:/wp-content/uploads/2025/04/5eedd64a-438b-4471-a91d-e348c4e2cb84-e1745930605869.jpeg
END:VEVENT
END:VCALENDAR