BEGIN:VCALENDAR
VERSION:2.0
PRODID:-//Crachia Hausham - ECPv6.15.20//NONSGML v1.0//EN
CALSCALE:GREGORIAN
METHOD:PUBLISH
X-WR-CALNAME:Crachia Hausham
X-ORIGINAL-URL:https://crachia.azurewebsites.net
X-WR-CALDESC:Veranstaltungen für Crachia Hausham
REFRESH-INTERVAL;VALUE=DURATION:PT1H
X-Robots-Tag:noindex
X-PUBLISHED-TTL:PT1H
BEGIN:VTIMEZONE
TZID:Europe/Berlin
BEGIN:DAYLIGHT
TZOFFSETFROM:+0100
TZOFFSETTO:+0200
TZNAME:CEST
DTSTART:20250330T010000
END:DAYLIGHT
BEGIN:STANDARD
TZOFFSETFROM:+0200
TZOFFSETTO:+0100
TZNAME:CET
DTSTART:20251026T010000
END:STANDARD
BEGIN:DAYLIGHT
TZOFFSETFROM:+0100
TZOFFSETTO:+0200
TZNAME:CEST
DTSTART:20260329T010000
END:DAYLIGHT
BEGIN:STANDARD
TZOFFSETFROM:+0200
TZOFFSETTO:+0100
TZNAME:CET
DTSTART:20261025T010000
END:STANDARD
BEGIN:DAYLIGHT
TZOFFSETFROM:+0100
TZOFFSETTO:+0200
TZNAME:CEST
DTSTART:20270328T010000
END:DAYLIGHT
BEGIN:STANDARD
TZOFFSETFROM:+0200
TZOFFSETTO:+0100
TZNAME:CET
DTSTART:20271031T010000
END:STANDARD
END:VTIMEZONE
BEGIN:VEVENT
DTSTART;TZID=Europe/Berlin:20260117T200000
DTEND;TZID=Europe/Berlin:20260117T235900
DTSTAMP:20260424T071355
CREATED:20250821T124546Z
LAST-MODIFIED:20260102T163734Z
UID:6325-1768680000-1768694340@crachia.azurewebsites.net
SUMMARY:2 . Gardeball mit der Huabaoim Musi
DESCRIPTION:Hausham wird wieder zur Gardehochburg mit unserem 2. Gardeball. Den Haushamer Faschingsnarren werden an diesem Abend unsere Gastgarden ihre diesjährigen Tänze und Programme präsentieren. Für Stimmung und Tanz zwischen den Auftritten spielt die Huabaoim Musi auf. Das dürft ihr auf keinen Fall verpassen.Mit dabei sind: \n\n\n\n\nOK Penzberger Fasching\n\n\n\nBurschengarde Schwindkirchen\n\n\n\nSeegeister Gmund-Dürnbach\n\n\n\nFaschingsgesellschaft Gleisenia Unterhaching\n\n\n\nKirchheimer Narrenrat „Kirnarra“\n\n\n\nFaschingsgilde Bad Aibling\n\n\n\n\nTickets sind ab 05.01.2026 direkt online über unseren Ticketshop oder am Veranstaltungstag an der Abendkasse erhältlich.
URL:https://crachia.azurewebsites.net/event/2-gardeball/
LOCATION:Gewerkschaftshaus Hausham\, Sportplatz 1\, Hausham\, Bayern\, 83734\, Deutschland
ATTACH;FMTTYPE=image/jpeg:https://crachia7d7c926c8b.blob.core.windows.net/blobcrachia7d7c926c8b/2025/08/Plakat-Gardeball.jpeg
END:VEVENT
BEGIN:VEVENT
DTSTART;TZID=Europe/Berlin:20260124T200000
DTEND;TZID=Europe/Berlin:20260125T030000
DTSTAMP:20260424T071355
CREATED:20250821T124719Z
LAST-MODIFIED:20260124T211351Z
UID:6329-1769284800-1769310000@crachia.azurewebsites.net
SUMMARY:Vegas Ball mit DJ Balu
DESCRIPTION:WELCOME TO FABULOUS VEGAS BALL HAUSHAMDas neue Highlight im Haushamer Mega-Fasching geht in die zweite Runde. Wir garantieren Spaß\, Spannung\, Spiele\, Glamour und starke Beats von DJ Balu. Lasst euch diesen Faschingsball auf keinen Fall entgehen. \n\n\n\nTickets gibt es ab 05.01.2026 direkt online über unseren Ticketshop oder an einer unserer bekannten Vorverkaufsstellen: \n\n\n\nAgip Service Station (Tankstelle)\, Rathausstr. 1\, 83734 HaushamÖffnungszeiten: Montag – Sonntag 05:00 – 23:00 UhrAutohaus Weinmann KG\, Miesbacher Str. 24\, 83734 HaushamÖffnungszeiten: Montag – Donnerstag 07:30 – 12:00 Uhr und 13:00 – 18:00 UhrFreitag 07:30 – 12:00 Uhr und 13:00 – 17:30 Uhr
URL:https://crachia.azurewebsites.net/event/vegas-ball-2/
LOCATION:Gewerkschaftshaus Hausham\, Sportplatz 1\, Hausham\, Bayern\, 83734\, Deutschland
ATTACH;FMTTYPE=image/jpeg:https://crachia7d7c926c8b.blob.core.windows.net/blobcrachia7d7c926c8b/2025/08/Vegas.jpg
END:VEVENT
BEGIN:VEVENT
DTSTART;TZID=Europe/Berlin:20260131T130000
DTEND;TZID=Europe/Berlin:20260131T180000
DTSTAMP:20260424T071355
CREATED:20250821T124903Z
LAST-MODIFIED:20260129T071808Z
UID:6331-1769864400-1769882400@crachia.azurewebsites.net
SUMMARY:Kinderfasching - AUSVERKAUFT
DESCRIPTION:Unsere kleinen Faschingsnarren und -närrinnen haben wir im Haushamer Megafasching natürlich nicht vergessen. \n\n\n\nDer Faschingsspaß am Nachmittag für Klein und Groß mit Partymusik von DJ Blauer Häuptling\, Spielen\, tollen Gewinnen und jeder Menge Spaß und guter Laune.  \n\n\n\nBeginn: 13:00 Uhr im großen Saal des Alpengasthof Glück auf in Hausham \n\n\n\nZu sehen gibt es Auftritte aller unserer Garden und Prinzenpaare. \n\n\n\nMaskierung ist natürlich ausdrücklich erwünscht. \n\n\n\nTickets gibt es ab 05.01.2026 ausschließlich an unseren bekannten Vorverkaufsstellen: \n\n\n\nAgip Service Station (Tankstelle)\, Rathausstr. 1\, 83734 HaushamÖffnungszeiten: Montag – Sonntag 05:00 – 23:00 UhrAutohaus Weinmann KG\, Miesbacher Str. 24\, 83734 HaushamÖffnungszeiten: Montag – Donnerstag 07:30 – 12:00 Uhr und 13:00 – 18:00 UhrFreitag 07:30 – 12:00 Uhr und 13:00 – 17:30 UhrJedes Kind und jeder Erwachsene benötigt ein Ticket.
URL:https://crachia.azurewebsites.net/event/kinderfasching-2/
LOCATION:Gewerkschaftshaus Hausham\, Sportplatz 1\, Hausham\, Bayern\, 83734\, Deutschland
ATTACH;FMTTYPE=image/jpeg:https://crachia7d7c926c8b.blob.core.windows.net/blobcrachia7d7c926c8b/2025/08/KiFa-Ausverkauft-scaled.jpg
END:VEVENT
END:VCALENDAR